BEGIN:VCALENDAR
VERSION:2.0
PRODID:DPCALENDAR
CALSCALE:GREGORIAN
BEGIN:VTIMEZONE
TZID:Europe/Berlin
X-MICROSOFT-CDO-TZID:4
BEGIN:STANDARD
DTSTART:20251026T010000
TZOFFSETFROM:+0200
TZOFFSETTO:+0100
TZNAME:CET
END:STANDARD
BEGIN:STANDARD
DTSTART:20261025T010000
TZOFFSETFROM:+0200
TZOFFSETTO:+0100
TZNAME:CET
END:STANDARD
BEGIN:DAYLIGHT
DTSTART:20260329T010000
TZOFFSETFROM:+0100
TZOFFSETTO:+0200
TZNAME:CEST
END:DAYLIGHT
END:VTIMEZONE
X-WR-TIMEZONE:Europe/Berlin
BEGIN:VEVENT
DTSTART;TZID=Europe/Berlin:20260328T170000
DTEND;TZID=Europe/Berlin:20260328T180000
UID:B46E3F70-A996-4998-8EC2-B9AB5DB4B62E
SUMMARY:Sport-Stammtisch
DTSTAMP:20260101T161801Z
DESCRIPTION:Sport-Stammtisch\NAktuelle Themen rund um den Radsport im RV\N\NPlanung CTF 2026\NPlanung Tag des Radsports 2026\NBreitensportlizenz und BDR-App\NPermanente-Touren des RV\NTraining mit Rennrad, Gravelbike und MTBStammtisch im Vereinsheim\N
X-ALT-DESC;FMTTYPE=text/html:<p><span style="font-size: 18pt;"><span style="font-family: arial, helvetica, sans-serif;"><strong>Sport-Stammtisch</strong></span></span></p><p><span style="font-size: 12pt;"><span style="font-family: arial, helvetica, sans-serif;">Aktuelle Themen rund um den Radsport im RV</span></span></p><ul><li><span style="font-family: arial, helvetica, sans-serif; font-size: 12pt;">Planung CTF 2026</span></li><li><span style="font-family: arial, helvetica, sans-serif; font-size: 12pt;">Planung Tag des Radsports 2026</span></li><li><span style="font-family: arial, helvetica, sans-serif; font-size: 12pt;">Breitensportlizenz und BDR-App</span></li><li><span style="font-family: arial, helvetica, sans-serif; font-size: 12pt;">Permanente-Touren des RV</span></li><li><span style="font-size: 12pt;"><span style="font-family: arial, helvetica, sans-serif;"><span style="font-size: 12pt;">Training mit Rennrad, Gravelbike und MTB</span><br /><br /><br />Stammtisch im Vereinsheim<br /></span></span></li></ul>
LOCATION:Limesstr. 2\, Ober-Mörlen
GEO:50.37249900;8.68448100
LAST-MODIFIED:20260224T202911Z
X-ACCESS:1
X-HITS:78
X-URL:
X-COLOR:CC5F00
END:VEVENT
END:VCALENDAR