BEGIN:VCALENDAR
VERSION:2.0
PRODID:DPCALENDAR
CALSCALE:GREGORIAN
BEGIN:VTIMEZONE
TZID:Europe/Berlin
X-MICROSOFT-CDO-TZID:4
BEGIN:STANDARD
DTSTART:20251026T010000
TZOFFSETFROM:+0200
TZOFFSETTO:+0100
TZNAME:CET
END:STANDARD
BEGIN:STANDARD
DTSTART:20261025T010000
TZOFFSETFROM:+0200
TZOFFSETTO:+0100
TZNAME:CET
END:STANDARD
BEGIN:DAYLIGHT
DTSTART:20260329T010000
TZOFFSETFROM:+0100
TZOFFSETTO:+0200
TZNAME:CEST
END:DAYLIGHT
END:VTIMEZONE
X-WR-TIMEZONE:Europe/Berlin
BEGIN:VEVENT
DTSTART;TZID=Europe/Berlin:20260322T140000
DTEND;TZID=Europe/Berlin:20260322T160000
UID:5DFF4095-3B09-40E8-B4EA-17435E6F505C
SUMMARY:Fahrrad-Flohmarkt
DTSTAMP:20260223T163209Z
DESCRIPTION:Alle Informationen zum Fahrradflohmarkt gibt es hier.\N 
X-ALT-DESC;FMTTYPE=text/html:<p><span style="font-family: arial, helvetica, sans-serif; font-size: 12pt;">Alle Informationen zum Fahrradflohmarkt gibt es <a href="index.php/veranstaltungen/fahrradflohmarkt" target="_blank" rel="noopener">hier</a>.</span></p><p>&nbsp;</p>
LAST-MODIFIED:20260224T201611Z
X-ACCESS:1
X-HITS:168
X-URL:
X-COLOR:CC5F00
END:VEVENT
END:VCALENDAR